BEGIN:VCALENDAR
PRODID:-//PUBBLE//agenda//NL
VERSION:2.0
METHOD:PUBLISH
BEGIN:VEVENT
DTSTART:20250918T180000Z
DTEND:20250918T200000Z
DTSTAMP:20260425T211734Z
UID:70c58113-a75f-42a3-92cc-9ec712211071
CREATED:20260425T211734Z
NAME:‘t Buurtschap speelt extra voorstellingen montferlandjournaal.nl
X-WR-CALNAME:‘t Buurtschap speelt extra voorstellingen
X-ALT-DESC;FMTTYPE=text/html:<a href='/agenda/2025/9/18/t-buurtschap-speelt-extra-voorstellingen-526633'>/agenda/2025/9/18/t-buurtschap-speelt-extra-voorstellingen-526633</a> || <p>SINDEREN: Toneelgezelschap ’t Buurtschap heeft in haar 42-jarig bestaan zeer uiteenlopende voorstellingen op de planken gebracht, zoals recent nog ‘Je zult leven’.</p><p>Dit keer is gekozen voor een vrolijke voorstelling: ‘Feesthoedjes en familiegeheimen’, dat speciaal voor ‘t Buurtschap is geschreven door Rob van Vliet. Eerdere voorstelling zijn inmiddels uitverkocht. Daarom zijn extra voorstellingen gepland op 18 en 19 september om 20:00 uur, Buurtschapshuis Sinderen.</p><p>Een weekje op vakantie met de gehele familie! Voor de één hét hoogtepunt van het jaar! Voor de ander?.. Laten we maar zeggen dat ze nog liever drie verstandskiezen laten trekken.. Zonder verdoving! Wanneer Astrid 75 jaar wordt lijkt het haar een goed idee om dat te vieren met een weekje op vakantie met de gehele familie. Het is echter wel duidelijk dat de één hier meer zin in heeft dan de ander…</p><p>Tickets a €12,50 zijn te reserveren op www.tbuurtschap.nl </p>
DESCRIPTION:<a href='/agenda/2025/9/18/t-buurtschap-speelt-extra-voorstellingen-526633'>/agenda/2025/9/18/t-buurtschap-speelt-extra-voorstellingen-526633</a> || <p>SINDEREN: Toneelgezelschap ’t Buurtschap heeft in haar 42-jarig bestaan zeer uiteenlopende voorstellingen op de planken gebracht, zoals recent nog ‘Je zult leven’.</p><p>Dit keer is gekozen voor een vrolijke voorstelling: ‘Feesthoedjes en familiegeheimen’, dat speciaal voor ‘t Buurtschap is geschreven door Rob van Vliet. Eerdere voorstelling zijn inmiddels uitverkocht. Daarom zijn extra voorstellingen gepland op 18 en 19 september om 20:00 uur, Buurtschapshuis Sinderen.</p><p>Een weekje op vakantie met de gehele familie! Voor de één hét hoogtepunt van het jaar! Voor de ander?.. Laten we maar zeggen dat ze nog liever drie verstandskiezen laten trekken.. Zonder verdoving! Wanneer Astrid 75 jaar wordt lijkt het haar een goed idee om dat te vieren met een weekje op vakantie met de gehele familie. Het is echter wel duidelijk dat de één hier meer zin in heeft dan de ander…</p><p>Tickets a €12,50 zijn te reserveren op www.tbuurtschap.nl </p>
LAST-MODIFIED:20260425T211734Z
LOCATION: Buurtschapshuis Sinderen | Sinderenseweg 112 Sinderen
SEQUENCE:0
STATUS:CONFIRMED
SUMMARY:‘t Buurtschap speelt extra voorstellingen
TRANSP:OPAQUE
END:VEVENT
END:VCALENDAR
