BEGIN:VCALENDAR
PRODID:-//PUBBLE//agenda//NL
VERSION:2.0
METHOD:PUBLISH
BEGIN:VEVENT
DTSTART:20260307T180000Z
DTEND:20260307T221500Z
DTSTAMP:20260419T132650Z
UID:c4bbc5a4-11cc-45ed-add7-9aefa9457679
CREATED:20260419T132650Z
NAME:40+ singleparty in Cafe De Rebel Borculo montferlandjournaal.nl
X-WR-CALNAME:40+ singleparty in Cafe De Rebel Borculo
X-ALT-DESC;FMTTYPE=text/html:<a href='/agenda/2026/3/7/40-singleparty-in-cafe-de-rebel-borculo-541917'>/agenda/2026/3/7/40-singleparty-in-cafe-de-rebel-borculo-541917</a> || <p><strong>BORCULO</strong> - Zaterdagavond 7 maart 2026 organiseert DatingOost samen met Meino, eigenaar van cafe De Rebel, een singleparty voor vrijgezellen boven de 40. Uitgaan voor singles die zin hebben in een ongedwongen avondje uit met gelijkgestemden. <br>Locatie: Cafe De Rebel, Hofstraat 3 in Borculo.</p><p>De singlescafe’s van DatingOost.nl staan bekend om de laagdrempeligheid, kleinschaligheid en het daardoor snelle contact leggen met andere singles.</p><p>Doelgroep: Singles 40+ 50+ 60+</p><p><strong>Wie en wat is DatingOost.nl?</strong></p><p>Sinds 2007 heeft DatingOost een eigen datingsite (40-85jr) en een bemiddelingsbureau (60-80jr) voor singles uit Oost-Nederland.</p><p>Al ruim 20 jaar worden gezellige uitgaansavonden georganiseerd naast de koppelwerkzaamheden van de eigen matchmaker. “Omdat we merkten dat niet per se iedereen wil daten, maar wel graag uit wil gaan (met gelijkgestemden), zijn deze singlesparty’s ontstaan”, legt matchmaker Getty Schepers uit. “Iedere maand organiseren we meerdere singlescafe’s op de zaterdagavond ergens in Oost-Nederland. Gemiddeld 60 tot 90 gasten. Het doel is en blijft het ontmoeten van gelijkgestemden, nieuwe vrienden maken, contacten leggen, fijne gesprekken voeren zonder druk om te <em>daten</em>, lachen, borrelen, dansen, babbelen en een hapje en een drankje. Flirten mag natuurlijk! Niet iedereen wil <em>daten,&nbsp;</em>maar wel graag een keer uitgaan.”</p><p>SINGLESCAFE</p><p>Zaterdagavond 7 maart 2026 in Cafe De Rebel&nbsp;</p><p>Hofstraat 3</p><p>Borculo</p><p>Parkeren: Overal gratis in de omgeving</p><p>Aanvang 20-24 uur</p><p>Cafe De Rebel is tot 4 uur ‘s nachts open. Dus blijf zolang jij het gezellig vindt.</p><p>Entree €14,- incl. koffie en hapjes</p><p>Let op: bij de entree hebben wij geen pin. Kaartjes kun je vooraf online kopen via deze pagina of gepast én contant bij binnenkomst.</p><p>Cafe De Rebel heeft natuurlijk wél een pinapparaat.&nbsp;</p><p>Dresscode: Casual nette kleding gewenst</p><p>Geen labels:</p><p>DatingOost.nl hangt geen labels aan haar singlesavonden als in ‘alleen voor hogeropgeleiden’. Onze singlescafe’s zijn voor iedereen toegankelijk, mits netjes gekleed.</p>
DESCRIPTION:<a href='/agenda/2026/3/7/40-singleparty-in-cafe-de-rebel-borculo-541917'>/agenda/2026/3/7/40-singleparty-in-cafe-de-rebel-borculo-541917</a> || <p><strong>BORCULO</strong> - Zaterdagavond 7 maart 2026 organiseert DatingOost samen met Meino, eigenaar van cafe De Rebel, een singleparty voor vrijgezellen boven de 40. Uitgaan voor singles die zin hebben in een ongedwongen avondje uit met gelijkgestemden. <br>Locatie: Cafe De Rebel, Hofstraat 3 in Borculo.</p><p>De singlescafe’s van DatingOost.nl staan bekend om de laagdrempeligheid, kleinschaligheid en het daardoor snelle contact leggen met andere singles.</p><p>Doelgroep: Singles 40+ 50+ 60+</p><p><strong>Wie en wat is DatingOost.nl?</strong></p><p>Sinds 2007 heeft DatingOost een eigen datingsite (40-85jr) en een bemiddelingsbureau (60-80jr) voor singles uit Oost-Nederland.</p><p>Al ruim 20 jaar worden gezellige uitgaansavonden georganiseerd naast de koppelwerkzaamheden van de eigen matchmaker. “Omdat we merkten dat niet per se iedereen wil daten, maar wel graag uit wil gaan (met gelijkgestemden), zijn deze singlesparty’s ontstaan”, legt matchmaker Getty Schepers uit. “Iedere maand organiseren we meerdere singlescafe’s op de zaterdagavond ergens in Oost-Nederland. Gemiddeld 60 tot 90 gasten. Het doel is en blijft het ontmoeten van gelijkgestemden, nieuwe vrienden maken, contacten leggen, fijne gesprekken voeren zonder druk om te <em>daten</em>, lachen, borrelen, dansen, babbelen en een hapje en een drankje. Flirten mag natuurlijk! Niet iedereen wil <em>daten,&nbsp;</em>maar wel graag een keer uitgaan.”</p><p>SINGLESCAFE</p><p>Zaterdagavond 7 maart 2026 in Cafe De Rebel&nbsp;</p><p>Hofstraat 3</p><p>Borculo</p><p>Parkeren: Overal gratis in de omgeving</p><p>Aanvang 20-24 uur</p><p>Cafe De Rebel is tot 4 uur ‘s nachts open. Dus blijf zolang jij het gezellig vindt.</p><p>Entree €14,- incl. koffie en hapjes</p><p>Let op: bij de entree hebben wij geen pin. Kaartjes kun je vooraf online kopen via deze pagina of gepast én contant bij binnenkomst.</p><p>Cafe De Rebel heeft natuurlijk wél een pinapparaat.&nbsp;</p><p>Dresscode: Casual nette kleding gewenst</p><p>Geen labels:</p><p>DatingOost.nl hangt geen labels aan haar singlesavonden als in ‘alleen voor hogeropgeleiden’. Onze singlescafe’s zijn voor iedereen toegankelijk, mits netjes gekleed.</p>
LAST-MODIFIED:20260419T132650Z
LOCATION: Cafe De Rebel | Hofstraat 3 Borculo
SEQUENCE:0
STATUS:CONFIRMED
SUMMARY:40+ singleparty in Cafe De Rebel Borculo
TRANSP:OPAQUE
END:VEVENT
END:VCALENDAR
