BEGIN:VCALENDAR
PRODID:-//PUBBLE//agenda//NL
VERSION:2.0
METHOD:PUBLISH
BEGIN:VEVENT
DTSTART:20260430T173000Z
DTEND:20260430T200000Z
DTSTAMP:20260419T190042Z
UID:a6aaabe7-b4f2-45c4-87c5-088f4b989aaf
CREATED:20260419T190042Z
NAME:Speeddate 60-70 jaar Lochem montferlandjournaal.nl
X-WR-CALNAME:Speeddate 60-70 jaar Lochem
X-ALT-DESC;FMTTYPE=text/html:<a href='/agenda/2026/4/30/speeddate-60-70-jaar-lochem-545947'>/agenda/2026/4/30/speeddate-60-70-jaar-lochem-545947</a> || <p><strong>LOCHEM</strong> - Donderdagavond 30 april 2026 speeddaten voor actieve singles tussen de 60 en 70 jaar in Fletcher Hotel De Scheperskamp, Paasberg 3, Lochem.&nbsp;</p><p>&nbsp;Ben jij op zoek naar weer een leuke, lieve partner? Dan is een speeddate is een gezellige, makkelijke en ook relaxte manier voor alleenstaanden om elkaar te ontmoeten. Je praat ontspannen met elkaar en denkt: wat is de eerste indruk? Hoe gaat dit gesprek, is er echte aandacht? Je noteert op je lijst JA bij meer interesse in die ander. Bij beide een JA is er een match, een klik. Binnen een week krijgen de deelnemers de uitslag via mail. Meer info via www.DatingOost.nl</p>
DESCRIPTION:<a href='/agenda/2026/4/30/speeddate-60-70-jaar-lochem-545947'>/agenda/2026/4/30/speeddate-60-70-jaar-lochem-545947</a> || <p><strong>LOCHEM</strong> - Donderdagavond 30 april 2026 speeddaten voor actieve singles tussen de 60 en 70 jaar in Fletcher Hotel De Scheperskamp, Paasberg 3, Lochem.&nbsp;</p><p>&nbsp;Ben jij op zoek naar weer een leuke, lieve partner? Dan is een speeddate is een gezellige, makkelijke en ook relaxte manier voor alleenstaanden om elkaar te ontmoeten. Je praat ontspannen met elkaar en denkt: wat is de eerste indruk? Hoe gaat dit gesprek, is er echte aandacht? Je noteert op je lijst JA bij meer interesse in die ander. Bij beide een JA is er een match, een klik. Binnen een week krijgen de deelnemers de uitslag via mail. Meer info via www.DatingOost.nl</p>
LAST-MODIFIED:20260419T190042Z
LOCATION: Fletcherhotel de Scheperskamp | Paasberg 3 Lochem
SEQUENCE:0
STATUS:CONFIRMED
SUMMARY:Speeddate 60-70 jaar Lochem
TRANSP:OPAQUE
END:VEVENT
END:VCALENDAR
